BEGIN:VCALENDAR
VERSION:2.0
PRODID:-//Eugene Science Center - ECPv6.15.16//NONSGML v1.0//EN
CALSCALE:GREGORIAN
METHOD:PUBLISH
X-WR-CALNAME:Eugene Science Center
X-ORIGINAL-URL:https://eugenesciencecenter.org
X-WR-CALDESC:Events for Eugene Science Center
REFRESH-INTERVAL;VALUE=DURATION:PT1H
X-Robots-Tag:noindex
X-PUBLISHED-TTL:PT1H
BEGIN:VTIMEZONE
TZID:America/Los_Angeles
BEGIN:DAYLIGHT
TZOFFSETFROM:-0800
TZOFFSETTO:-0700
TZNAME:PDT
DTSTART:20220313T100000
END:DAYLIGHT
BEGIN:STANDARD
TZOFFSETFROM:-0700
TZOFFSETTO:-0800
TZNAME:PST
DTSTART:20221106T090000
END:STANDARD
BEGIN:DAYLIGHT
TZOFFSETFROM:-0800
TZOFFSETTO:-0700
TZNAME:PDT
DTSTART:20230312T100000
END:DAYLIGHT
BEGIN:STANDARD
TZOFFSETFROM:-0700
TZOFFSETTO:-0800
TZNAME:PST
DTSTART:20231105T090000
END:STANDARD
BEGIN:DAYLIGHT
TZOFFSETFROM:-0800
TZOFFSETTO:-0700
TZNAME:PDT
DTSTART:20240310T100000
END:DAYLIGHT
BEGIN:STANDARD
TZOFFSETFROM:-0700
TZOFFSETTO:-0800
TZNAME:PST
DTSTART:20241103T090000
END:STANDARD
END:VTIMEZONE
BEGIN:VEVENT
DTSTART;TZID=America/Los_Angeles:20230718T150000
DTEND;TZID=America/Los_Angeles:20230718T210000
DTSTAMP:20260423T072152
CREATED:20230523T212223Z
LAST-MODIFIED:20230523T212955Z
UID:16713-1689692400-1689714000@eugenesciencecenter.org
SUMMARY:Pint Night at Falling Sky Pourhouse
DESCRIPTION:Enjoy tasty local drinks while supporting Eugene Science Center!\nTuesday\, July 18th | 3-9pm | Falling Sky Pourhouse (790 Blair Blvd)\n$1 from every Beer\, Cider\, Wine\, House Soda\, and To-Go Beer goes towards Eugene Science Center.\nInvite your friends\, stop by Falling Sky’s Pourhouse\, and help support STEM education on our community!\nScience Center staff will be on-site to answer questions and talk about hands-on science education!
URL:https://eugenesciencecenter.org/event/falling-sky-pint-night/
LOCATION:Falling Sky Pourhouse\, 790 Blair Blvd\, Eugene\, OR\, 97402\, United States
CATEGORIES:Public Outreach
ATTACH;FMTTYPE=image/png:https://eugenesciencecenter.org/wp-content/uploads/2023/05/Pint-Night.png
ORGANIZER;CN="Eugene Science Center":MAILTO:info@eugenesciencecenter.org
END:VEVENT
BEGIN:VEVENT
DTSTART;TZID=America/Los_Angeles:20230726T183000
DTEND;TZID=America/Los_Angeles:20230726T233000
DTSTAMP:20260423T072152
CREATED:20230523T220548Z
LAST-MODIFIED:20230720T230041Z
UID:16729-1690396200-1690414200@eugenesciencecenter.org
SUMMARY:Emeralds STEAM Night at PK Park
DESCRIPTION:Join Eugene Science Center and the Eugene Emeralds at PK Park for Science Camp Day!\nJuly 26\, 2023 | First pitch at 6:35pm | PK Park\nEugene Science Center staff will be at the game hosting fun hands-on activities for attendees to enjoy!\nScan the QR code (or click here) to buy tickets through our FUN-draiser – 50% of proceeds go to Eugene Science Center!
URL:https://eugenesciencecenter.org/event/science-camp-day-at-pk-park/
LOCATION:PK Park\, 2800 Martin Luther King Jr Blvd\, Eugene\, OR\, 97401\, United States
CATEGORIES:Public Outreach
ATTACH;FMTTYPE=image/png:https://eugenesciencecenter.org/wp-content/uploads/2023/05/whale2.png
ORGANIZER;CN="Eugene Emeralds":MAILTO:info@emeraldsbaseball.com
END:VEVENT
BEGIN:VEVENT
DTSTART;TZID=America/Los_Angeles:20230729T150000
DTEND;TZID=America/Los_Angeles:20230729T170000
DTSTAMP:20260423T072152
CREATED:20230523T222841Z
LAST-MODIFIED:20230523T222915Z
UID:16750-1690642800-1690650000@eugenesciencecenter.org
SUMMARY:Relay For Life of Eugene/Springfield 2023
DESCRIPTION:Eugene Science Center will be hosting a table at Relay For Life of Eugene/Springfield 2023. Stop by and enjoy hands-on science activities and demos! \nJuly 29\, 2023 | 3-5pm | Pleasant Hill High School Track \nLearn more about the event on Relay For Life of Eugene/Springfield’s website.
URL:https://eugenesciencecenter.org/event/relay-for-life-of-eugene-springfield-2023/
LOCATION:Pleasant Hill High School\, 84455 N Enterprise Rd\, Pleasant Hill\, OR\, 97455\, United States
CATEGORIES:Public Outreach
ATTACH;FMTTYPE=image/jpeg:https://eugenesciencecenter.org/wp-content/uploads/2023/05/RFL-large.jpg
END:VEVENT
END:VCALENDAR