BEGIN:VCALENDAR
VERSION:2.0
PRODID:-//Eugene Science Center - ECPv6.15.16//NONSGML v1.0//EN
CALSCALE:GREGORIAN
METHOD:PUBLISH
X-ORIGINAL-URL:https://eugenesciencecenter.org
X-WR-CALDESC:Events for Eugene Science Center
REFRESH-INTERVAL;VALUE=DURATION:PT1H
X-Robots-Tag:noindex
X-PUBLISHED-TTL:PT1H
BEGIN:VTIMEZONE
TZID:America/Los_Angeles
BEGIN:DAYLIGHT
TZOFFSETFROM:-0800
TZOFFSETTO:-0700
TZNAME:PDT
DTSTART:20220313T100000
END:DAYLIGHT
BEGIN:STANDARD
TZOFFSETFROM:-0700
TZOFFSETTO:-0800
TZNAME:PST
DTSTART:20221106T090000
END:STANDARD
BEGIN:DAYLIGHT
TZOFFSETFROM:-0800
TZOFFSETTO:-0700
TZNAME:PDT
DTSTART:20230312T100000
END:DAYLIGHT
BEGIN:STANDARD
TZOFFSETFROM:-0700
TZOFFSETTO:-0800
TZNAME:PST
DTSTART:20231105T090000
END:STANDARD
BEGIN:DAYLIGHT
TZOFFSETFROM:-0800
TZOFFSETTO:-0700
TZNAME:PDT
DTSTART:20240310T100000
END:DAYLIGHT
BEGIN:STANDARD
TZOFFSETFROM:-0700
TZOFFSETTO:-0800
TZNAME:PST
DTSTART:20241103T090000
END:STANDARD
END:VTIMEZONE
BEGIN:VEVENT
DTSTART;TZID=America/Los_Angeles:20231129T110000
DTEND;TZID=America/Los_Angeles:20231129T220000
DTSTAMP:20260423T010233
CREATED:20231122T230957Z
LAST-MODIFIED:20231122T231210Z
UID:18267-1701255600-1701295200@eugenesciencecenter.org
SUMMARY:Oakshire Inspires at Oakshire Public House
DESCRIPTION:Enjoy tasty local drinks while supporting Eugene Science Center!\nWednesday\, November 29th | 11am-10pm | Oakshire Public House (207 Madison Street)\n$1 from every draft Core pint sold goes towards Eugene Science Center.\nInvite your friends\, stop by Oakshire Public House\, and help support STEM education in our community!\nScience Center staff will be on-site from 5-7pm to answer questions and talk about hands-on science education!
URL:https://eugenesciencecenter.org/event/oakshire-inspires/
LOCATION:Oakshire Public House\, 207 Madison St.\, Eugene\, 97401\, United States
CATEGORIES:Public Outreach
ATTACH;FMTTYPE=image/png:https://eugenesciencecenter.org/wp-content/uploads/2023/11/Oakshire-Fundraiser.png
ORGANIZER;CN="Eugene Science Center":MAILTO:info@eugenesciencecenter.org
END:VEVENT
END:VCALENDAR