BEGIN:VCALENDAR
VERSION:2.0
PRODID:-//Eugene Science Center - ECPv6.15.16//NONSGML v1.0//EN
CALSCALE:GREGORIAN
METHOD:PUBLISH
X-ORIGINAL-URL:https://eugenesciencecenter.org
X-WR-CALDESC:Events for Eugene Science Center
REFRESH-INTERVAL;VALUE=DURATION:PT1H
X-Robots-Tag:noindex
X-PUBLISHED-TTL:PT1H
BEGIN:VTIMEZONE
TZID:America/Los_Angeles
BEGIN:DAYLIGHT
TZOFFSETFROM:-0800
TZOFFSETTO:-0700
TZNAME:PDT
DTSTART:20230312T100000
END:DAYLIGHT
BEGIN:STANDARD
TZOFFSETFROM:-0700
TZOFFSETTO:-0800
TZNAME:PST
DTSTART:20231105T090000
END:STANDARD
BEGIN:DAYLIGHT
TZOFFSETFROM:-0800
TZOFFSETTO:-0700
TZNAME:PDT
DTSTART:20240310T100000
END:DAYLIGHT
BEGIN:STANDARD
TZOFFSETFROM:-0700
TZOFFSETTO:-0800
TZNAME:PST
DTSTART:20241103T090000
END:STANDARD
BEGIN:DAYLIGHT
TZOFFSETFROM:-0800
TZOFFSETTO:-0700
TZNAME:PDT
DTSTART:20250309T100000
END:DAYLIGHT
BEGIN:STANDARD
TZOFFSETFROM:-0700
TZOFFSETTO:-0800
TZNAME:PST
DTSTART:20251102T090000
END:STANDARD
END:VTIMEZONE
BEGIN:VEVENT
DTSTART;TZID=America/Los_Angeles:20240706T100000
DTEND;TZID=America/Los_Angeles:20240706T123000
DTSTAMP:20260422T151103
CREATED:20240629T004035Z
LAST-MODIFIED:20240629T004035Z
UID:20108-1720260000-1720269000@eugenesciencecenter.org
SUMMARY:OBF Family: Planets\, Myths\, and Music
DESCRIPTION:Join the Oregon Bach Festival at Eugene Science Center on Saturday\, July 6th for a family-friendly “Planets\, Myths\, and Music” event ahead of their performance of Holst’s “The Planets.” \nLearn more: Click Here! \nFrom the Oregon Bach Festival: \nTake a journey through space with Eugene Science Center and OBF. Embark on a self-guided scavenger hunt and experience a planetarium show during a morning of learning\, exploration\, and fun!
URL:https://eugenesciencecenter.org/event/obf-family-planets-myths-and-music/
LOCATION:Eugene Science Center\, 2300 Leo Harris Pkwy\, Eugene\, OR\, 97401\, United States
CATEGORIES:Public Outreach,Special Events
ATTACH;FMTTYPE=image/jpeg:https://eugenesciencecenter.org/wp-content/uploads/2024/06/OBF-Family-Planets-Myths-and-Music.jpg
END:VEVENT
END:VCALENDAR