BEGIN:VCALENDAR
VERSION:2.0
PRODID:-//Eugene Science Center - ECPv6.15.20//NONSGML v1.0//EN
CALSCALE:GREGORIAN
METHOD:PUBLISH
X-WR-CALNAME:Eugene Science Center
X-ORIGINAL-URL:https://eugenesciencecenter.org
X-WR-CALDESC:Events for Eugene Science Center
REFRESH-INTERVAL;VALUE=DURATION:PT1H
X-Robots-Tag:noindex
X-PUBLISHED-TTL:PT1H
BEGIN:VTIMEZONE
TZID:America/Los_Angeles
BEGIN:DAYLIGHT
TZOFFSETFROM:-0800
TZOFFSETTO:-0700
TZNAME:PDT
DTSTART:20170312T100000
END:DAYLIGHT
BEGIN:STANDARD
TZOFFSETFROM:-0700
TZOFFSETTO:-0800
TZNAME:PST
DTSTART:20171105T090000
END:STANDARD
BEGIN:DAYLIGHT
TZOFFSETFROM:-0800
TZOFFSETTO:-0700
TZNAME:PDT
DTSTART:20180311T100000
END:DAYLIGHT
BEGIN:STANDARD
TZOFFSETFROM:-0700
TZOFFSETTO:-0800
TZNAME:PST
DTSTART:20181104T090000
END:STANDARD
BEGIN:DAYLIGHT
TZOFFSETFROM:-0800
TZOFFSETTO:-0700
TZNAME:PDT
DTSTART:20190310T100000
END:DAYLIGHT
BEGIN:STANDARD
TZOFFSETFROM:-0700
TZOFFSETTO:-0800
TZNAME:PST
DTSTART:20191103T090000
END:STANDARD
END:VTIMEZONE
BEGIN:VEVENT
DTSTART;TZID=America/Los_Angeles:20180827T180000
DTEND;TZID=America/Los_Angeles:20180827T220000
DTSTAMP:20260423T141252
CREATED:20180814T200709Z
LAST-MODIFIED:20180814T201241Z
UID:2669-1535392800-1535407200@eugenesciencecenter.org
SUMMARY:S.T.E.M. Night at PK Park!
DESCRIPTION:Description: 50% of ticket sales go directly to the Eugene Science Center! Doors open at 6\, Game starts at 7:05! \nWe’ll have prizes\, activities\, mini exhibits\, and more! \n 
URL:https://eugenesciencecenter.org/event/s-t-e-m-night-at-pk-park/
LOCATION:P.K. Park\, 2800 Martin Luther King Jr Blvd\, Eugene\, 97401\, United States
CATEGORIES:Special Events
ATTACH;FMTTYPE=image/jpeg:https://eugenesciencecenter.org/wp-content/uploads/2018/08/stemnight.jpg
END:VEVENT
END:VCALENDAR