BEGIN:VCALENDAR
VERSION:2.0
PRODID:-//Eugene Science Center - ECPv6.15.16//NONSGML v1.0//EN
CALSCALE:GREGORIAN
METHOD:PUBLISH
X-WR-CALNAME:Eugene Science Center
X-ORIGINAL-URL:https://eugenesciencecenter.org
X-WR-CALDESC:Events for Eugene Science Center
REFRESH-INTERVAL;VALUE=DURATION:PT1H
X-Robots-Tag:noindex
X-PUBLISHED-TTL:PT1H
BEGIN:VTIMEZONE
TZID:America/Los_Angeles
BEGIN:DAYLIGHT
TZOFFSETFROM:-0800
TZOFFSETTO:-0700
TZNAME:PDT
DTSTART:20170312T100000
END:DAYLIGHT
BEGIN:STANDARD
TZOFFSETFROM:-0700
TZOFFSETTO:-0800
TZNAME:PST
DTSTART:20171105T090000
END:STANDARD
BEGIN:DAYLIGHT
TZOFFSETFROM:-0800
TZOFFSETTO:-0700
TZNAME:PDT
DTSTART:20180311T100000
END:DAYLIGHT
BEGIN:STANDARD
TZOFFSETFROM:-0700
TZOFFSETTO:-0800
TZNAME:PST
DTSTART:20181104T090000
END:STANDARD
BEGIN:DAYLIGHT
TZOFFSETFROM:-0800
TZOFFSETTO:-0700
TZNAME:PDT
DTSTART:20190310T100000
END:DAYLIGHT
BEGIN:STANDARD
TZOFFSETFROM:-0700
TZOFFSETTO:-0800
TZNAME:PST
DTSTART:20191103T090000
END:STANDARD
END:VTIMEZONE
BEGIN:VEVENT
DTSTART;TZID=America/Los_Angeles:20181014T110000
DTEND;TZID=America/Los_Angeles:20181014T160000
DTSTAMP:20260423T100124
CREATED:20181006T202445Z
LAST-MODIFIED:20181006T202445Z
UID:3024-1539514800-1539532800@eugenesciencecenter.org
SUMMARY:Feathered Friends
DESCRIPTION:Birds of a feather flock together for Feathered Friends Day at Eugene Science Center. Meet avian experts from Exotic Bird Rescue of Oregon and some of their fine\, feathered friends. See live birds\, up close and personal\, and take a closer look at some talons\, feathers\, owl pellets and other fascinating specimens. \nThis special event is included with Exhibit Hall admission. Check out our schedule of planetarium shows available during this special event.
URL:https://eugenesciencecenter.org/event/feathered-friends/
LOCATION:OR
CATEGORIES:Special Events
ATTACH;FMTTYPE=image/jpeg:https://eugenesciencecenter.org/wp-content/uploads/2018/10/unnamed-e1538858272331.jpg
END:VEVENT
BEGIN:VEVENT
DTSTART;TZID=America/Los_Angeles:20181020T170000
DTEND;TZID=America/Los_Angeles:20181020T213000
DTSTAMP:20260423T100124
CREATED:20181012T173142Z
LAST-MODIFIED:20181012T173142Z
UID:3064-1540054800-1540071000@eugenesciencecenter.org
SUMMARY:Parents' Night Out: Magnificent Moon
DESCRIPTION:Need a night out? Don’t hire a sitter\, drop the kids off at Eugene Science Center!\nParents’ Night Out is a chance for parents to take a break (or date night) while their kids have a blast with our educators. The evening includes dinner\, museum exploration time\, hands-on educational games\, activities\, a snack\, and a planetarium show. \nParents’ Night Out is for children aged 4 to 12. \nTime: 5:00pm – 9:30pm \nPrice:\nMembers: $35 first child\, $10 each additional child in your family*.\nNon-members: $40 first child\, $15 each additional child in your family*. \n\nTheme: Magnificent Moon!\nOctober 20th is International Observe the Moon Night! Spend the evening leaning all about the Earth’s moon through hands-on science exploration\, telescopes\, and a special planetarium show all about the moon! \n*The $25 discount for additional children applies for a maximum of 5 children/family. Children must be registered during one single transaction for the discount to apply. \nAdvance registration is required. All discounts are automatically applied during registration. \nRegister online!
URL:https://eugenesciencecenter.org/event/parents-night-out-magnificent-moon/
LOCATION:Eugene Science Center\, 2300 Leo Harris Pkwy\, Eugene\, OR\, 97401\, United States
CATEGORIES:Special Events
ATTACH;FMTTYPE=image/jpeg:https://eugenesciencecenter.org/wp-content/uploads/2018/10/173_InOMNPosterA2018sml-e1539204817775.jpg
END:VEVENT
BEGIN:VEVENT
DTSTART;TZID=America/Los_Angeles:20181027T120000
DTEND;TZID=America/Los_Angeles:20181027T180000
DTSTAMP:20260423T100124
CREATED:20181012T234931Z
LAST-MODIFIED:20181027T211303Z
UID:3069-1540641600-1540663200@eugenesciencecenter.org
SUMMARY:Mad Scientists' Halloween Extravaganza!
DESCRIPTION:  \n\nSaturday October 27th | Noon – 6 p.m.\n\nMary Shelley’s Frankenstein is celebrating its 200th anniversary\, yet its themes continue to resonate in our technological age and raise new\, complex questions about the nature of life\, our role as creators\, and our responsibilities to the things we bring into the world. \nThis special Halloween event will include exciting maker activities related to robotics\, genetic engineering\, and electricity. By teaching a robot how to draw\, experimenting with simple machines\, or even bringing your own “creature” to life\, you will confront the same questions and ideas that bedeviled the fictional Victor Frankenstein on a dark and stormy night two centuries ago.  \nFrankenstein emerged in a moment of great social and technological change. Similarly\, through today’s incredible scientific advances\, we all have the power to create and transform the world around us.  \nCome explore the power of Mary Shelley’s original vision\, and gain a fresh perspective on emerging technologies such as artificial intelligence\, synthetic biology\, and human enhancement.\n \n  \nFood Truck: Most Wanted Espresso\, serving warm drinks\, snacks\, and kid-friendly food! \nPrice: $8 per person\, $7 for Seniors\, Free for Children ages 0-2. \nFREE for all Eugene Science Center Members \nSpecial Event pricing\, please note no passes or coupons will be accepted
URL:https://eugenesciencecenter.org/event/mad-scientists-halloween-extravaganza-frankenstein200/
LOCATION:Eugene Science Center\, 2300 Leo Harris Pkwy\, Eugene\, OR\, 97401\, United States
CATEGORIES:Special Events
ATTACH;FMTTYPE=image/jpeg:https://eugenesciencecenter.org/wp-content/uploads/2018/10/frankie.jpg
END:VEVENT
BEGIN:VEVENT
DTSTART;TZID=America/Los_Angeles:20181028T120000
DTEND;TZID=America/Los_Angeles:20181028T160000
DTSTAMP:20260423T100124
CREATED:20181013T005003Z
LAST-MODIFIED:20181013T013951Z
UID:3082-1540728000-1540742400@eugenesciencecenter.org
SUMMARY:Crawly Critters Meet & Greet with Amazon Joes
DESCRIPTION:Local Exotic pet store\, Amazon Joes\, will be visiting us for a meet and greet with some of their crawly critters! Come learn about snakes\, spiders\, and more  – included with general admission.
URL:https://eugenesciencecenter.org/event/crawly-critters-meet-greet-with-amazon-joes/
LOCATION:Eugene Science Center\, 2300 Leo Harris Pkwy\, Eugene\, OR\, 97401\, United States
CATEGORIES:Special Events
ATTACH;FMTTYPE=image/jpeg:https://eugenesciencecenter.org/wp-content/uploads/2018/10/21055962_112189456161381_4506170030903691714_o-e1539391650564.jpg
END:VEVENT
END:VCALENDAR