BEGIN:VCALENDAR
VERSION:2.0
PRODID:-//Eugene Science Center - ECPv6.15.16//NONSGML v1.0//EN
CALSCALE:GREGORIAN
METHOD:PUBLISH
X-WR-CALNAME:Eugene Science Center
X-ORIGINAL-URL:https://eugenesciencecenter.org
X-WR-CALDESC:Events for Eugene Science Center
REFRESH-INTERVAL;VALUE=DURATION:PT1H
X-Robots-Tag:noindex
X-PUBLISHED-TTL:PT1H
BEGIN:VTIMEZONE
TZID:America/Los_Angeles
BEGIN:DAYLIGHT
TZOFFSETFROM:-0800
TZOFFSETTO:-0700
TZNAME:PDT
DTSTART:20170312T100000
END:DAYLIGHT
BEGIN:STANDARD
TZOFFSETFROM:-0700
TZOFFSETTO:-0800
TZNAME:PST
DTSTART:20171105T090000
END:STANDARD
BEGIN:DAYLIGHT
TZOFFSETFROM:-0800
TZOFFSETTO:-0700
TZNAME:PDT
DTSTART:20180311T100000
END:DAYLIGHT
BEGIN:STANDARD
TZOFFSETFROM:-0700
TZOFFSETTO:-0800
TZNAME:PST
DTSTART:20181104T090000
END:STANDARD
BEGIN:DAYLIGHT
TZOFFSETFROM:-0800
TZOFFSETTO:-0700
TZNAME:PDT
DTSTART:20190310T100000
END:DAYLIGHT
BEGIN:STANDARD
TZOFFSETFROM:-0700
TZOFFSETTO:-0800
TZNAME:PST
DTSTART:20191103T090000
END:STANDARD
END:VTIMEZONE
BEGIN:VEVENT
DTSTART;TZID=America/Los_Angeles:20181208T170000
DTEND;TZID=America/Los_Angeles:20181208T213000
DTSTAMP:20260423T072021
CREATED:20181117T015846Z
LAST-MODIFIED:20181117T015936Z
UID:3159-1544288400-1544304600@eugenesciencecenter.org
SUMMARY:Parents' Night Out
DESCRIPTION:Saturday\, December 8th\nTinkering Toy Shop: Tinker and design your own take-home toys and learn to code a robot with Eugene Women in Tech! \nParents’ Night Out is a chance for parents to take a break (or date night) while their kids have a blast with our educators. The evening includes dinner\, museum exploration time\, hands-on educational games\, activities\, a snack\, and a planetarium show. \nParents’ Night Out is for children aged 4 to 12. \nTime: 5:00pm – 9:30pm \nPrice: \nMembers: $35 first child\, $10 each additional child in your family*. \nNon-members: $40 first child\, $15 each additional child in your family*. \n*The $25 discount for additional children applies for a maximum of 5 children/family. Children must be registered during one single transaction for the discount to apply. \nAdvance registration is required. All discounts are automatically applied during registration.\nRegister Online
URL:https://eugenesciencecenter.org/event/parents-night-out/
LOCATION:Eugene Science Center\, 2300 Leo Harris Pkwy\, Eugene\, OR\, 97401\, United States
CATEGORIES:Special Events
ATTACH;FMTTYPE=image/jpeg:https://eugenesciencecenter.org/wp-content/uploads/2018/03/IMG_20160816_122156_sm-e1521592583373.jpg
ORGANIZER;CN="Eugene Science Center":MAILTO:info@eugenesciencecenter.org
END:VEVENT
BEGIN:VEVENT
DTSTART;TZID=America/Los_Angeles:20181216T100000
DTEND;TZID=America/Los_Angeles:20181216T160000
DTSTAMP:20260423T072021
CREATED:20181211T185326Z
LAST-MODIFIED:20181211T185326Z
UID:3406-1544954400-1544976000@eugenesciencecenter.org
SUMMARY:Holiday Open House
DESCRIPTION:Our gift to the community this holiday season is a fun-filled day of science\, FREE of charge for everyone in the family! \n  \nEugene Science Center’s Holiday Open House features free admission to the Exhibit Hall and one Planetarium show for everyone! \nAdmission to our new laser light shows will be offered at a discounted rate.
URL:https://eugenesciencecenter.org/event/holiday-open-house/
LOCATION:Eugene Science Center\, 2300 Leo Harris Pkwy\, Eugene\, OR\, 97401\, United States
CATEGORIES:Special Events
ATTACH;FMTTYPE=image/jpeg:https://eugenesciencecenter.org/wp-content/uploads/2018/12/esc-open-house-dec.jpg
END:VEVENT
BEGIN:VEVENT
DTSTART;TZID=America/Los_Angeles:20181231T100000
DTEND;TZID=America/Los_Angeles:20181231T130000
DTSTAMP:20260423T072021
CREATED:20181216T025505Z
LAST-MODIFIED:20181216T232619Z
UID:3493-1546250400-1546261200@eugenesciencecenter.org
SUMMARY:Countdown to Noon
DESCRIPTION:Can’t stay up ’til midnight on New Year’s Eve? You can still put on your dancing shoes and party during the day at Eugene Science Center! Join us for a family-friendly celebration of another orbit around the Sun. \nFeaturing: \n\nCount down to blast-off of our 2 ft tall scaled-to-size Apollo Little Joe II Rocket with an E30-4 composite fuel engine (modeled after the NASA spacecraft active in 1963-66).  Launching at Noon (dependent upon weather conditions).\nLaser Dance Party in the Planetarium following the rocket launch\nHands-on activities about the science of fireworks\nBe sure to check out our schedule of laser light shows running all day as well! (Additional charges apply.)\n\n  \nMore details to come!
URL:https://eugenesciencecenter.org/event/countdown-to-noon/
LOCATION:Eugene Science Center\, 2300 Leo Harris Pkwy\, Eugene\, OR\, 97401\, United States
CATEGORIES:Special Events
ATTACH;FMTTYPE=image/png:https://eugenesciencecenter.org/wp-content/uploads/2018/12/Countdown-to-noon-2-e1544928983229.png
END:VEVENT
END:VCALENDAR