BEGIN:VCALENDAR
VERSION:2.0
PRODID:-//Eugene Science Center - ECPv6.15.16//NONSGML v1.0//EN
CALSCALE:GREGORIAN
METHOD:PUBLISH
X-WR-CALNAME:Eugene Science Center
X-ORIGINAL-URL:https://eugenesciencecenter.org
X-WR-CALDESC:Events for Eugene Science Center
REFRESH-INTERVAL;VALUE=DURATION:PT1H
X-Robots-Tag:noindex
X-PUBLISHED-TTL:PT1H
BEGIN:VTIMEZONE
TZID:America/Los_Angeles
BEGIN:DAYLIGHT
TZOFFSETFROM:-0800
TZOFFSETTO:-0700
TZNAME:PDT
DTSTART:20180311T100000
END:DAYLIGHT
BEGIN:STANDARD
TZOFFSETFROM:-0700
TZOFFSETTO:-0800
TZNAME:PST
DTSTART:20181104T090000
END:STANDARD
BEGIN:DAYLIGHT
TZOFFSETFROM:-0800
TZOFFSETTO:-0700
TZNAME:PDT
DTSTART:20190310T100000
END:DAYLIGHT
BEGIN:STANDARD
TZOFFSETFROM:-0700
TZOFFSETTO:-0800
TZNAME:PST
DTSTART:20191103T090000
END:STANDARD
BEGIN:DAYLIGHT
TZOFFSETFROM:-0800
TZOFFSETTO:-0700
TZNAME:PDT
DTSTART:20200308T100000
END:DAYLIGHT
BEGIN:STANDARD
TZOFFSETFROM:-0700
TZOFFSETTO:-0800
TZNAME:PST
DTSTART:20201101T090000
END:STANDARD
END:VTIMEZONE
BEGIN:VEVENT
DTSTART;TZID=America/Los_Angeles:20190504T130000
DTEND;TZID=America/Los_Angeles:20190504T160000
DTSTAMP:20260422T233049
CREATED:20190427T003206Z
LAST-MODIFIED:20190503T191133Z
UID:5021-1556974800-1556985600@eugenesciencecenter.org
SUMMARY:Mathematical Marvels
DESCRIPTION:Are you excited about math? We are\, so we are celebrating during the National Math Festival! Explore flow visualization fluid\, geometric bubbles\, an Isochronous Curve and Lego Galton board! Included with exhibit hall admission. \n  \nFeatured mathematician: Sarah Hagen\nSarah studies the equations that model fluid flow\, with the goal of better understanding turbulence in fluids. Her research is in partial differential equations and theoretical fluid dynamics. \nSarah’s activity is called “Order and Chaos in Moving Water”. \nCome explore the relationship between mathematics and the natural world with a hands-on activity that is fun for all ages. Create beautiful designs and investigate chaotic behavior with our mesmerizing ‘flow-visualization fluid’. Don’t be surprised if by the end you see mathematics in a new light! \n Pictured: Flow Visualization Fluid
URL:https://eugenesciencecenter.org/event/mathematical-marvels/
LOCATION:Eugene Science Center\, 2300 Leo Harris Pkwy\, Eugene\, OR\, 97401\, United States
CATEGORIES:Special Events
ATTACH;FMTTYPE=image/png:https://eugenesciencecenter.org/wp-content/uploads/2019/04/NMF_Bubble_May_4_Social.png
ORGANIZER;CN="Eugene Science Center":MAILTO:info@eugenesciencecenter.org
END:VEVENT
BEGIN:VEVENT
DTSTART;TZID=America/Los_Angeles:20190511T173000
DTEND;TZID=America/Los_Angeles:20190511T213000
DTSTAMP:20260422T233049
CREATED:20190503T232937Z
LAST-MODIFIED:20190503T233753Z
UID:5140-1557595800-1557610200@eugenesciencecenter.org
SUMMARY:Parents' Night Out: Blast Off!
DESCRIPTION:SATURDAY\, MAY 11TH\n5:30PM – 9:30PM.\nTheme: Blast Off!\nTake the night off and celebrate Mothers’ Day by registering your kids for an evening of rocket science! \nExplore rocketry at night\, without your parents! We will design our own rockets and test air\, water\, chemical reactions\, and combustion as forms of rocket propulsion. \n  \nLearn more about Parents’ Night Out events at https://eugenesciencecenter.org/events/parents-night-out/
URL:https://eugenesciencecenter.org/event/parents-night-out-blast-off/
LOCATION:Eugene Science Center\, 2300 Leo Harris Pkwy\, Eugene\, OR\, 97401\, United States
CATEGORIES:Special Events
ATTACH;FMTTYPE=image/png:https://eugenesciencecenter.org/wp-content/uploads/2019/05/Parents-Night-Out-1-e1556917352738.png
ORGANIZER;CN="Eugene Science Center":MAILTO:info@eugenesciencecenter.org
END:VEVENT
BEGIN:VEVENT
DTSTART;TZID=America/Los_Angeles:20190514T173000
DTEND;TZID=America/Los_Angeles:20190514T193000
DTSTAMP:20260422T233049
CREATED:20190501T212654Z
LAST-MODIFIED:20190501T212655Z
UID:5107-1557855000-1557862200@eugenesciencecenter.org
SUMMARY:Sensory Sensitive Evening
DESCRIPTION:ABOUT SENSORY SENSITIVE EVENINGS\nEugene Science Center is proud to offer Sensory Sensitive Evenings. We believe everyone\, no matter their age or disability\, should enjoy the exciting world of science and technology. For neuro-diverse adults and children who prefer a quiet\, less sensory-stimulating environment\, we welcome you! \nCome enjoy an evening where we create a more sensory sensitive space and provide resources like sensory sensitive planetarium shows\, sensory activities\, service animals and more. \nSpace is limited in order to keep the museum sensory sensitive so grab your spot now! \nIf you did reserve tickets and realize you won’t be able to make it\, please cancel your ticket order through Eventbrite so those spots can be opened back up for others. Thank you! \nClick here to learn more.
URL:https://eugenesciencecenter.org/event/sensory-sensitive-evening-2/
LOCATION:Eugene Science Center\, 2300 Leo Harris Pkwy\, Eugene\, OR\, 97401\, United States
CATEGORIES:Special Events
ATTACH;FMTTYPE=image/jpeg:https://eugenesciencecenter.org/wp-content/uploads/2019/02/IMG-2696-e1549432693942.jpg
END:VEVENT
BEGIN:VEVENT
DTSTART;TZID=America/Los_Angeles:20190525T110000
DTEND;TZID=America/Los_Angeles:20190525T160000
DTSTAMP:20260422T233049
CREATED:20180505T235519Z
LAST-MODIFIED:20190522T171743Z
UID:2385-1558782000-1558800000@eugenesciencecenter.org
SUMMARY:Farm & Food Science
DESCRIPTION:Join us for a day where we can play with our food! Plant vegetable seeds and learn what makes them grow. Explore the processes of preparing and preserving food after it’s been harvested. Catch demonstrations of butter and cheese making that you can try at home. We’ll even meet a few furry farm friends with the help of Ferns Edge Goat Dairy. \nActivities are included with regular Exhibit Hall admission ($5 general admission or $8 in combination with a Planetarium show) \nPlease note that we will be offering a special planetarium schedule\, featuring our shows that focus on themes we will explore during this special event.\nPlanetarium schedule for Saturday\, May 25th (click on show titles for more details):\n10:30am – Habitat Earth\n11:00am – Sunstruck\n12:00pm –  Habitat Earth\n1:00pm – Sunstruck\n2:00pm – Habitat Earth\n3:00pm – Sunstruck\n4:00pm – Habitat Earth
URL:https://eugenesciencecenter.org/event/farm-food-festival/
LOCATION:Eugene Science Center\, 2300 Leo Harris Pkwy\, Eugene\, OR\, 97401\, United States
CATEGORIES:Special Events
ATTACH;FMTTYPE=image/jpeg:https://eugenesciencecenter.org/wp-content/uploads/2018/05/goats-e1556926833569.jpg
END:VEVENT
END:VCALENDAR