BEGIN:VCALENDAR
VERSION:2.0
PRODID:-//Eugene Science Center - ECPv6.15.16//NONSGML v1.0//EN
CALSCALE:GREGORIAN
METHOD:PUBLISH
X-ORIGINAL-URL:https://eugenesciencecenter.org
X-WR-CALDESC:Events for Eugene Science Center
REFRESH-INTERVAL;VALUE=DURATION:PT1H
X-Robots-Tag:noindex
X-PUBLISHED-TTL:PT1H
BEGIN:VTIMEZONE
TZID:America/Los_Angeles
BEGIN:DAYLIGHT
TZOFFSETFROM:-0800
TZOFFSETTO:-0700
TZNAME:PDT
DTSTART:20180311T100000
END:DAYLIGHT
BEGIN:STANDARD
TZOFFSETFROM:-0700
TZOFFSETTO:-0800
TZNAME:PST
DTSTART:20181104T090000
END:STANDARD
BEGIN:DAYLIGHT
TZOFFSETFROM:-0800
TZOFFSETTO:-0700
TZNAME:PDT
DTSTART:20190310T100000
END:DAYLIGHT
BEGIN:STANDARD
TZOFFSETFROM:-0700
TZOFFSETTO:-0800
TZNAME:PST
DTSTART:20191103T090000
END:STANDARD
BEGIN:DAYLIGHT
TZOFFSETFROM:-0800
TZOFFSETTO:-0700
TZNAME:PDT
DTSTART:20200308T100000
END:DAYLIGHT
BEGIN:STANDARD
TZOFFSETFROM:-0700
TZOFFSETTO:-0800
TZNAME:PST
DTSTART:20201101T090000
END:STANDARD
END:VTIMEZONE
BEGIN:VEVENT
DTSTART;TZID=America/Los_Angeles:20191012T173000
DTEND;TZID=America/Los_Angeles:20191012T213000
DTSTAMP:20260422T164552
CREATED:20191003T224952Z
LAST-MODIFIED:20191003T224952Z
UID:7577-1570901400-1570915800@eugenesciencecenter.org
SUMMARY:Parents' Night Out
DESCRIPTION:Experiment with ghost bubbles\, wiggling glow worms\, and catch hair-raising demonstrations! \nParents’ Night Out is a chance for parents to take a break (or date night) while their kids have a blast with our educators. The evening includes dinner\, museum exploration time\, hands-on educational games\, activities\, a snack\, and a planetarium show. \nParents’ Night Out is for children aged 4 to 12. \nTime: 5:30pm – 9:30pm \nPrice:\nMembers: $35 first child\, $20 each additional child in your family*.\nNon-members: $40 first child\, $25 each additional child in your family*.\nAdvance registration is required.\nRegister online at https://www.amilia.com/store/en/eugenesciencecenter/shop/programs/35994
URL:https://eugenesciencecenter.org/event/parents-night-out-2/
LOCATION:Eugene Science Center\, 2300 Leo Harris Pkwy\, Eugene\, OR\, 97401\, United States
CATEGORIES:Special Events
ATTACH;FMTTYPE=image/png:https://eugenesciencecenter.org/wp-content/uploads/2019/09/pno-spooky-science-oct-2019.png
ORGANIZER;CN="Eugene Science Center":MAILTO:info@eugenesciencecenter.org
END:VEVENT
BEGIN:VEVENT
DTSTART;TZID=America/Los_Angeles:20191025T140000
DTEND;TZID=America/Los_Angeles:20191025T190000
DTSTAMP:20260422T164552
CREATED:20190928T225340Z
LAST-MODIFIED:20191023T004730Z
UID:7472-1572012000-1572030000@eugenesciencecenter.org
SUMMARY:Mad Scientist Halloween Extravaganza
DESCRIPTION:Friday\, October 25th\n2:00pm – 7:00pm\n  \nThis event showcases Eugene Science Center at its spookiest! We’ve got eerie experiments\, spooky science demonstrations\, and haunting Halloween fun. Be sure to try your hand at launching a pumpkin projectile with our giant trebuchet on the front lawn. \nWearing a costume is encouraged! \nFun for all ages. \nWhat’s happening where? When?\nOutside: \nFood Truck – I Scream for Waffles (with Fall menu specials)\nTrebuchet Pumpkin Launching: 2:30 – 5:00pm\, or until pumpkins run out \nPlanetarium: (tickets included with admission to event)\nHalloween Spooktacular Laser Show: 2:15\, 3:45\, 4:30 pm\nMind-blowing science demonstrations by University of Oregon’s Society of Physics Students: 3:00\, 5:15\, 6:00 pm \nPotions Lab:\nDry Ice Ghost Bubbles\nMake your own Atomic Glow Worms (and take them home)\nTest your daring and taste edible crickets and mealworms\nFrog Dissection Demos: 3:30\, 4:30\, 6:00 pm \nMad Scientist’s Lab:\nMake your own slime (and take it home)\nLive animals on display: ball python and rose-haired tarantula\n“Hair-raising” Electrostatic generator Demos: 3:00\, 4:00\, 5:00\, 6:00 pm \nExhibit Hall:\nPhoto Booth: Share your photos with us using #eugenesciencecenter\nEnjoy a seasonally decorated experience of our hall of fun\, engaging science exhibits! \n  \nPrice: $8 per person\, $7 for Seniors\, Free for Children ages 0-2.\nMuseums for All: Families with an EBT card receive half-off admission\nFREE for all Eugene Science Center Members \nSpecial Event pricing: please note no passes or coupons will be accepted \nThis event is followed by our regular Friday night laser show features for the month (tickets sold separately):\n7pm: Halloween Laser Spooktacular\n8pm: Laser Stranger Things\n9pm: Laser Floyd: The Wall
URL:https://eugenesciencecenter.org/event/mad-scientist-halloween-extravaganza/
LOCATION:Eugene Science Center\, 2300 Leo Harris Pkwy\, Eugene\, OR\, 97401\, United States
CATEGORIES:Special Events
ATTACH;FMTTYPE=image/jpeg:https://eugenesciencecenter.org/wp-content/uploads/2019/09/halloween-event-1.jpg
ORGANIZER;CN="Eugene Science Center":MAILTO:info@eugenesciencecenter.org
END:VEVENT
BEGIN:VEVENT
DTSTART;TZID=America/Los_Angeles:20191029T180000
DTEND;TZID=America/Los_Angeles:20191029T210000
DTSTAMP:20260422T164552
CREATED:20191003T225702Z
LAST-MODIFIED:20191003T230915Z
UID:7579-1572372000-1572382800@eugenesciencecenter.org
SUMMARY:21+ Event: MonSTAR Mash
DESCRIPTION:Upcoming Adult Night: MonSTAR Mash\nTuesday\, October 29th • Ages 21+ • 6-9:00pm\nExplore the Halloween night sky with a live planetarium show\, be dazzled by one of our STRANGEST laser shows\, take a spooky tour with V.R. Goggles\, view the night sky above with telescopes on the lawn\, and MORE! Food and Drink tickets included\, everyone’s I.D. will be checked at the door. \nEnter our costume contest and win prizes! \nMember Pricing: $10 in advance\, $15 at the door\nNon Member Pricing: $15 in Advance\, $20 at the door \nMore information here.
URL:https://eugenesciencecenter.org/event/7579/
LOCATION:Eugene Science Center\, 2300 Leo Harris Pkwy\, Eugene\, OR\, 97401\, United States
CATEGORIES:Special Events
ATTACH;FMTTYPE=image/jpeg:https://eugenesciencecenter.org/wp-content/uploads/2019/10/monstarmash-event-cover-e1569965517980.jpg
ORGANIZER;CN="Eugene Science Center":MAILTO:info@eugenesciencecenter.org
END:VEVENT
END:VCALENDAR