BEGIN:VCALENDAR
VERSION:2.0
PRODID:-//Eugene Science Center - ECPv6.15.16//NONSGML v1.0//EN
CALSCALE:GREGORIAN
METHOD:PUBLISH
X-WR-CALNAME:Eugene Science Center
X-ORIGINAL-URL:https://eugenesciencecenter.org
X-WR-CALDESC:Events for Eugene Science Center
REFRESH-INTERVAL;VALUE=DURATION:PT1H
X-Robots-Tag:noindex
X-PUBLISHED-TTL:PT1H
BEGIN:VTIMEZONE
TZID:America/Los_Angeles
BEGIN:DAYLIGHT
TZOFFSETFROM:-0800
TZOFFSETTO:-0700
TZNAME:PDT
DTSTART:20180311T100000
END:DAYLIGHT
BEGIN:STANDARD
TZOFFSETFROM:-0700
TZOFFSETTO:-0800
TZNAME:PST
DTSTART:20181104T090000
END:STANDARD
BEGIN:DAYLIGHT
TZOFFSETFROM:-0800
TZOFFSETTO:-0700
TZNAME:PDT
DTSTART:20190310T100000
END:DAYLIGHT
BEGIN:STANDARD
TZOFFSETFROM:-0700
TZOFFSETTO:-0800
TZNAME:PST
DTSTART:20191103T090000
END:STANDARD
BEGIN:DAYLIGHT
TZOFFSETFROM:-0800
TZOFFSETTO:-0700
TZNAME:PDT
DTSTART:20200308T100000
END:DAYLIGHT
BEGIN:STANDARD
TZOFFSETFROM:-0700
TZOFFSETTO:-0800
TZNAME:PST
DTSTART:20201101T090000
END:STANDARD
END:VTIMEZONE
BEGIN:VEVENT
DTSTART;TZID=America/Los_Angeles:20191208T100000
DTEND;TZID=America/Los_Angeles:20191208T170000
DTSTAMP:20260422T135556
CREATED:20191114T023654Z
LAST-MODIFIED:20191205T230044Z
UID:8220-1575799200-1575824400@eugenesciencecenter.org
SUMMARY:Holiday Open House
DESCRIPTION:Our gift to the community this holiday season is a fun-filled day of science\, FREE of charge for everyone in the family! \n  \nEugene Science Center’s Holiday Open House features free admission to the Exhibit Hall and one Planetarium show for everyone! \n 
URL:https://eugenesciencecenter.org/event/holiday-open-house-2/
LOCATION:Eugene Science Center\, 2300 Leo Harris Pkwy\, Eugene\, OR\, 97401\, United States
CATEGORIES:Special Events
ATTACH;FMTTYPE=image/jpeg:https://eugenesciencecenter.org/wp-content/uploads/2019/11/holiday-open-house-19-square.jpg
ORGANIZER;CN="Eugene Science Center":MAILTO:info@eugenesciencecenter.org
END:VEVENT
BEGIN:VEVENT
DTSTART;TZID=America/Los_Angeles:20191212T173000
DTEND;TZID=America/Los_Angeles:20191212T193000
DTSTAMP:20260422T135556
CREATED:20191122T233434Z
LAST-MODIFIED:20191122T233434Z
UID:8341-1576171800-1576179000@eugenesciencecenter.org
SUMMARY:Sensory Sensitive Evening
DESCRIPTION:Thursday\, December 12th: 5:30 – 7:30 PM \n  \n\n\nNeed a quieter\, less sensory-stimulating environment? Attend our Sensory Sensitive Evenings at the Eugene Science Center. \nEugene Science Center is proud to offer Sensory Sensitive Evenings. We believe everyone\, no matter their age or disability\, should enjoy the exciting world of science and technology. For neuro-diverse children and adults who prefer a quiet\, less sensory-stimulating environment\, we welcome you! \nCome enjoy an evening where we create a more sensory friendly space and provide resources like sensory sensitive planetarium shows\, sensory activities\, service animals and more. \nFREE EVENT. \nFor more information\, please visit: https://eugenesciencecenter.org/sensoryhours/
URL:https://eugenesciencecenter.org/event/sensory-sensitive-evening-6/
LOCATION:Eugene Science Center\, 2300 Leo Harris Pkwy\, Eugene\, OR\, 97401\, United States
CATEGORIES:Special Events
ATTACH;FMTTYPE=image/jpeg:https://eugenesciencecenter.org/wp-content/uploads/2019/02/IMG-2696-e1549432693942.jpg
ORGANIZER;CN="Eugene Science Center":MAILTO:info@eugenesciencecenter.org
END:VEVENT
BEGIN:VEVENT
DTSTART;TZID=America/Los_Angeles:20191214T173000
DTEND;TZID=America/Los_Angeles:20191214T213000
DTSTAMP:20260422T135556
CREATED:20191114T024007Z
LAST-MODIFIED:20191114T024007Z
UID:8222-1576344600-1576359000@eugenesciencecenter.org
SUMMARY:Parents' Night Out
DESCRIPTION:Saturday\, December 14th. 5:30pm – 9:30pm.\nTheme: Frozen Science \nCreate snow and ice crystals you can bring home! Learn about frozen worlds in outer space and freezing habitats found here on planet Earth. \n  \nParents’ Night Out is a chance for parents to take a break (or date night) while their kids have a blast with our educators. The evening includes dinner\, museum exploration time\, hands-on educational games\, activities\, a snack\, and a planetarium show. \nParents’ Night Out is for children aged 4 to 12. \nTime: 5:30pm – 9:30pm \nPrice:\nMembers: $35 first child\, $20 each additional child in your family*.\nNon-members: $40 first child\, $25 each additional child in your family*.\nAdvance registration is required.\nRegister online at https://www.amilia.com/store/en/eugenesciencecenter/shop/activities/2405820
URL:https://eugenesciencecenter.org/event/parents-night-out-2-2/
LOCATION:Eugene Science Center\, 2300 Leo Harris Pkwy\, Eugene\, OR\, 97401\, United States
CATEGORIES:Special Events
ATTACH;FMTTYPE=image/png:https://eugenesciencecenter.org/wp-content/uploads/2019/09/PNO-FROZEN-SCIENCE-DEC-2019-1.png
ORGANIZER;CN="Eugene Science Center":MAILTO:info@eugenesciencecenter.org
END:VEVENT
END:VCALENDAR