BEGIN:VCALENDAR
VERSION:2.0
PRODID:-//Eugene Science Center - ECPv6.15.16//NONSGML v1.0//EN
CALSCALE:GREGORIAN
METHOD:PUBLISH
X-ORIGINAL-URL:https://eugenesciencecenter.org
X-WR-CALDESC:Events for Eugene Science Center
REFRESH-INTERVAL;VALUE=DURATION:PT1H
X-Robots-Tag:noindex
X-PUBLISHED-TTL:PT1H
BEGIN:VTIMEZONE
TZID:America/Los_Angeles
BEGIN:DAYLIGHT
TZOFFSETFROM:-0800
TZOFFSETTO:-0700
TZNAME:PDT
DTSTART:20190310T100000
END:DAYLIGHT
BEGIN:STANDARD
TZOFFSETFROM:-0700
TZOFFSETTO:-0800
TZNAME:PST
DTSTART:20191103T090000
END:STANDARD
BEGIN:DAYLIGHT
TZOFFSETFROM:-0800
TZOFFSETTO:-0700
TZNAME:PDT
DTSTART:20200308T100000
END:DAYLIGHT
BEGIN:STANDARD
TZOFFSETFROM:-0700
TZOFFSETTO:-0800
TZNAME:PST
DTSTART:20201101T090000
END:STANDARD
BEGIN:DAYLIGHT
TZOFFSETFROM:-0800
TZOFFSETTO:-0700
TZNAME:PDT
DTSTART:20210314T100000
END:DAYLIGHT
BEGIN:STANDARD
TZOFFSETFROM:-0700
TZOFFSETTO:-0800
TZNAME:PST
DTSTART:20211107T090000
END:STANDARD
END:VTIMEZONE
BEGIN:VEVENT
DTSTART;TZID=America/Los_Angeles:20200208T173000
DTEND;TZID=America/Los_Angeles:20200208T213000
DTSTAMP:20260422T111901
CREATED:20200131T220805Z
LAST-MODIFIED:20200131T220831Z
UID:8934-1581183000-1581197400@eugenesciencecenter.org
SUMMARY:Parents' Night Out
DESCRIPTION:SATURDAY\, FEBRUARY 8TH. 5:30PM – 9:30PM.\nTheme: Small Worlds\nWhat’s the smallest thing you can see with your eyes? Do things look different under a microscope? Explore the world of things so small we need special tools to observe them. \nParents’ Night Out is a chance for parents to take a break (or date night) while their kids have a blast with our educators. The evening includes dinner\, museum exploration time\, hands-on educational games\, activities\, a snack\, and a planetarium show. \nParents’ Night Out is for children aged 4 to 12. \nTime: 5:30pm – 9:30pm \nPrice:\nMembers: $35 first child\, $20 each additional child in your family*.\nNon-members: $40 first child\, $25 each additional child in your family*.\nAdvance registration is required.\nRegister online at https://www.amilia.com/store/en/eugenesciencecenter/shop/programs/35994
URL:https://eugenesciencecenter.org/event/parents-night-out-3/
LOCATION:Eugene Science Center\, 2300 Leo Harris Pkwy\, Eugene\, OR\, 97401\, United States
CATEGORIES:Special Events
ATTACH;FMTTYPE=image/png:https://eugenesciencecenter.org/wp-content/uploads/2020/01/Small-worlds-PNO.png
ORGANIZER;CN="Eugene Science Center":MAILTO:info@eugenesciencecenter.org
END:VEVENT
BEGIN:VEVENT
DTSTART;TZID=America/Los_Angeles:20200212T180000
DTEND;TZID=America/Los_Angeles:20200212T210000
DTSTAMP:20260422T111901
CREATED:20200129T213837Z
LAST-MODIFIED:20200213T001041Z
UID:8892-1581530400-1581541200@eugenesciencecenter.org
SUMMARY:Science Uncensored (ages 21+)
DESCRIPTION:Science Uncensored: \nLOVE written in the stars\nWednesday\, February 12th\, 2020 • Ages 21+ • 6-9:00pm\nFood and Drink tickets included\nFeaturing:\n\nA one-time-only live stargazing show featuring love stories written in the stars: the mythology behind visible constellations\nDrinks and dinner! Enjoy two adult beverages and Track Town pizza\, included with your ticket.\nEnjoy a kid-free Exhibit Hall: impress\, challenge\, or collaborate with your date while exploring hands-on science.\nTelescopes on the lawn: marvel at tonight’s sky thanks to Eugene Astronomical Society\nSpecial community partner booths from Planned Parenthood and Good Clean Love\nExtra activities: design a vibrating robot\, learn about the dating styles of different animals\, and try taking the most scientifically attractive selfie for your dating profile!\n\nPricing:\nPublic tickets: $15 in advance • $20 at the door\nESC Member tickets: $10 in advance • $15 at the door
URL:https://eugenesciencecenter.org/event/science-uncensored-ages-21/
LOCATION:OR
CATEGORIES:Special Events
ATTACH;FMTTYPE=image/png:https://eugenesciencecenter.org/wp-content/uploads/2020/01/21-Adult-Night-2_12_20-•-6-9pm.png
END:VEVENT
BEGIN:VEVENT
DTSTART;TZID=America/Los_Angeles:20200215T120000
DTEND;TZID=America/Los_Angeles:20200215T160000
DTSTAMP:20260422T111901
CREATED:20180223T193407Z
LAST-MODIFIED:20200124T000518Z
UID:1606-1581768000-1581782400@eugenesciencecenter.org
SUMMARY:Living Lab Day
DESCRIPTION:February 15\, 2020\n12:00 pm – 4:00 pm\n  \nTeam Duckling\, developmental science at the UO\, is partnering with Eugene Science Center for a day of fun\, research-inspired activities for children and families of all ages. \nLearn about local psychology and brain development research\, try some mind and brain science activities\, and participate in studies to help us make new discoveries in science!
URL:https://eugenesciencecenter.org/event/living-lab-day/
LOCATION:Eugene Science Center\, 2300 Leo Harris Pkwy\, Eugene\, OR\, 97401\, United States
CATEGORIES:Special Events
ATTACH;FMTTYPE=image/jpeg:https://eugenesciencecenter.org/wp-content/uploads/2018/01/livinglab3.jpg
ORGANIZER;CN="Eugene Science Center":MAILTO:info@eugenesciencecenter.org
END:VEVENT
END:VCALENDAR