BEGIN:VCALENDAR
VERSION:2.0
PRODID:-//Eugene Science Center - ECPv6.15.16//NONSGML v1.0//EN
CALSCALE:GREGORIAN
METHOD:PUBLISH
X-ORIGINAL-URL:https://eugenesciencecenter.org
X-WR-CALDESC:Events for Eugene Science Center
REFRESH-INTERVAL;VALUE=DURATION:PT1H
X-Robots-Tag:noindex
X-PUBLISHED-TTL:PT1H
BEGIN:VTIMEZONE
TZID:America/Los_Angeles
BEGIN:DAYLIGHT
TZOFFSETFROM:-0800
TZOFFSETTO:-0700
TZNAME:PDT
DTSTART:20210314T100000
END:DAYLIGHT
BEGIN:STANDARD
TZOFFSETFROM:-0700
TZOFFSETTO:-0800
TZNAME:PST
DTSTART:20211107T090000
END:STANDARD
BEGIN:DAYLIGHT
TZOFFSETFROM:-0800
TZOFFSETTO:-0700
TZNAME:PDT
DTSTART:20220313T100000
END:DAYLIGHT
BEGIN:STANDARD
TZOFFSETFROM:-0700
TZOFFSETTO:-0800
TZNAME:PST
DTSTART:20221106T090000
END:STANDARD
BEGIN:DAYLIGHT
TZOFFSETFROM:-0800
TZOFFSETTO:-0700
TZNAME:PDT
DTSTART:20230312T100000
END:DAYLIGHT
BEGIN:STANDARD
TZOFFSETFROM:-0700
TZOFFSETTO:-0800
TZNAME:PST
DTSTART:20231105T090000
END:STANDARD
END:VTIMEZONE
BEGIN:VEVENT
DTSTART;TZID=America/Los_Angeles:20221007T190000
DTEND;TZID=America/Los_Angeles:20221007T210000
DTSTAMP:20260420T104644
CREATED:20220929T191226Z
LAST-MODIFIED:20220929T191226Z
UID:14956-1665169200-1665176400@eugenesciencecenter.org
SUMMARY:Friday Night Laser Show: Prince + Elton John
DESCRIPTION:Join us every Friday night for Laser shows!\nPurchase tickets here\nOctober Schedule:\n\n10/7\n7 pm Laser Prince \n8 pm Laser Elton John \n  \n\n10/14\n\n7 pm Laser Pink Floyd: Dark Side of The Moon \n8 pm Laser RUSH \n\n  \n10/21\n\n7 pm Laser Halloween Spooktacular \n8 pm Laser Stranger Things \n\n  \n10/28\n\n7 pm Laser Halloween Spooktacular \n8 pm Laser Stranger Things \n\n  \nPurchase tickets here
URL:https://eugenesciencecenter.org/event/friday-night-laser-show-prince-elton-john/
LOCATION:OR
CATEGORIES:Special Events
ATTACH;FMTTYPE=image/png:https://eugenesciencecenter.org/wp-content/uploads/2022/09/Chic-Beige-Abstract-Fashion-Carousel-Instagram-Post-1.png
END:VEVENT
BEGIN:VEVENT
DTSTART;TZID=America/Los_Angeles:20221014T190000
DTEND;TZID=America/Los_Angeles:20221014T210000
DTSTAMP:20260420T104644
CREATED:20220929T191515Z
LAST-MODIFIED:20220929T191515Z
UID:14961-1665774000-1665781200@eugenesciencecenter.org
SUMMARY:Friday Night Laser Show: Pink Floyd + Rush
DESCRIPTION:Join us every Friday night for Laser shows!\nPurchase tickets here\nOctober Schedule:\n\n10/7\n7 pm Laser Prince \n8 pm Laser Elton John \n– \n\n10/14\n\n7 pm Laser Pink Floyd: Dark Side of The Moon \n8 pm Laser RUSH \n\n– \n10/21\n\n7 pm Laser Halloween Spooktacular \n8 pm Laser Stranger Things \n– \n\n10/28\n\n7 pm Laser Halloween Spooktacular \n8 pm Laser Stranger Things \n\n  \nPurchase tickets here
URL:https://eugenesciencecenter.org/event/friday-night-laser-show-pink-floyd-rush/
LOCATION:OR
CATEGORIES:Special Events
ATTACH;FMTTYPE=image/png:https://eugenesciencecenter.org/wp-content/uploads/2022/09/Chic-Beige-Abstract-Fashion-Carousel-Instagram-Post-1.png
END:VEVENT
BEGIN:VEVENT
DTSTART;TZID=America/Los_Angeles:20221021T190000
DTEND;TZID=America/Los_Angeles:20221021T210000
DTSTAMP:20260420T104644
CREATED:20220929T191658Z
LAST-MODIFIED:20220929T191658Z
UID:14963-1666378800-1666386000@eugenesciencecenter.org
SUMMARY:Friday Night Laser Show: Halloween Spooktacular + Stranger Things
DESCRIPTION:Join us every Friday night for Laser shows!\nPurchase tickets here\nOctober Schedule:\n\n10/7\n7 pm Laser Prince \n8 pm Laser Elton John \n– \n\n10/14\n\n7 pm Laser Pink Floyd: Dark Side of The Moon \n8 pm Laser RUSH \n\n– \n10/21\n\n7 pm Laser Halloween Spooktacular \n8 pm Laser Stranger Things \n– \n\n10/28\n\n7 pm Laser Halloween Spooktacular \n8 pm Laser Stranger Things \n\n  \nPurchase tickets here
URL:https://eugenesciencecenter.org/event/friday-night-laser-show-halloween-spooktacular-stranger-things/
LOCATION:OR
CATEGORIES:Special Events
ATTACH;FMTTYPE=image/png:https://eugenesciencecenter.org/wp-content/uploads/2022/09/Chic-Beige-Abstract-Fashion-Carousel-Instagram-Post-1.png
END:VEVENT
BEGIN:VEVENT
DTSTART;TZID=America/Los_Angeles:20221028T190000
DTEND;TZID=America/Los_Angeles:20221028T210000
DTSTAMP:20260420T104644
CREATED:20220929T191723Z
LAST-MODIFIED:20220929T191723Z
UID:14965-1666983600-1666990800@eugenesciencecenter.org
SUMMARY:Friday Night Laser Show: Halloween Spooktacular + Stranger Things
DESCRIPTION:Join us every Friday night for Laser shows!\nPurchase tickets here\nOctober Schedule:\n\n10/7\n7 pm Laser Prince \n8 pm Laser Elton John \n– \n\n10/14\n\n7 pm Laser Pink Floyd: Dark Side of The Moon \n8 pm Laser RUSH \n\n– \n10/21\n\n7 pm Laser Halloween Spooktacular \n8 pm Laser Stranger Things \n– \n\n10/28\n\n7 pm Laser Halloween Spooktacular \n8 pm Laser Stranger Things \n\n  \nPurchase tickets here
URL:https://eugenesciencecenter.org/event/friday-night-laser-show-halloween-spooktacular-stranger-things-2/
LOCATION:OR
CATEGORIES:Special Events
ATTACH;FMTTYPE=image/png:https://eugenesciencecenter.org/wp-content/uploads/2022/09/Chic-Beige-Abstract-Fashion-Carousel-Instagram-Post-1.png
END:VEVENT
BEGIN:VEVENT
DTSTART;TZID=America/Los_Angeles:20221030T100000
DTEND;TZID=America/Los_Angeles:20221030T170000
DTSTAMP:20260420T104644
CREATED:20220929T172817Z
LAST-MODIFIED:20220929T172831Z
UID:14944-1667124000-1667149200@eugenesciencecenter.org
SUMMARY:Halloween Open House
DESCRIPTION:Join us for a day of FREE admission!\n\nDuring our Halloween Open House\, gain FREE admission to the Exhibit Hall and Planetarium shows.\n\n\nMore activities and details coming soon!
URL:https://eugenesciencecenter.org/event/halloween-open-house/
LOCATION:OR
CATEGORIES:Special Events
ATTACH;FMTTYPE=image/png:https://eugenesciencecenter.org/wp-content/uploads/2022/09/Screen-Shot-2022-09-29-at-10.25.23-AM.png
END:VEVENT
END:VCALENDAR