BEGIN:VCALENDAR
VERSION:2.0
PRODID:-//Eugene Science Center - ECPv6.15.16//NONSGML v1.0//EN
CALSCALE:GREGORIAN
METHOD:PUBLISH
X-ORIGINAL-URL:https://eugenesciencecenter.org
X-WR-CALDESC:Events for Eugene Science Center
REFRESH-INTERVAL;VALUE=DURATION:PT1H
X-Robots-Tag:noindex
X-PUBLISHED-TTL:PT1H
BEGIN:VTIMEZONE
TZID:America/Los_Angeles
BEGIN:DAYLIGHT
TZOFFSETFROM:-0800
TZOFFSETTO:-0700
TZNAME:PDT
DTSTART:20230312T100000
END:DAYLIGHT
BEGIN:STANDARD
TZOFFSETFROM:-0700
TZOFFSETTO:-0800
TZNAME:PST
DTSTART:20231105T090000
END:STANDARD
BEGIN:DAYLIGHT
TZOFFSETFROM:-0800
TZOFFSETTO:-0700
TZNAME:PDT
DTSTART:20240310T100000
END:DAYLIGHT
BEGIN:STANDARD
TZOFFSETFROM:-0700
TZOFFSETTO:-0800
TZNAME:PST
DTSTART:20241103T090000
END:STANDARD
BEGIN:DAYLIGHT
TZOFFSETFROM:-0800
TZOFFSETTO:-0700
TZNAME:PDT
DTSTART:20250309T100000
END:DAYLIGHT
BEGIN:STANDARD
TZOFFSETFROM:-0700
TZOFFSETTO:-0800
TZNAME:PST
DTSTART:20251102T090000
END:STANDARD
END:VTIMEZONE
BEGIN:VEVENT
DTSTART;TZID=America/Los_Angeles:20240323T100000
DTEND;TZID=America/Los_Angeles:20240323T120000
DTSTAMP:20260421T083242
CREATED:20240306T221416Z
LAST-MODIFIED:20240306T221758Z
UID:19244-1711188000-1711195200@eugenesciencecenter.org
SUMMARY:Meet A Scientist
DESCRIPTION:Scientists are visiting Eugene Science Center! Meet scientists from our community\, learn about their exciting research\, and ask questions!\nJoin us on Saturday\, March 23rd to meet our Scientists of the Month: Rose Hulsey-Vincent\, Tim Mathew\, and Willow Davis!\nIncluded with general admission\, free for ESC members.\nAbout this month’s scientists: \nRose Hulsey-Vincent is a graduate student in the Gardner Lab at the University of Oregon\, where she researches how songbirds’ brains plan and coordinate the order of syllables in their songs. As a former fencing coach and competitive fencer\, she is interested in studying how animals plan and execute complex movements\, such as speaking or singing. Before UO\, she studied biophysics at Vassar College\, where she helped develop an optical setup to study how microorganisms move. After college she worked as a research technician at Janelia Research Campus\, where she studied how fruit flies navigate. \nTim Mathew\, a PhD candidate at the University of Oregon\, works on the ATLAS experiment which is a multi-purpose detector at the Large Hadron Collider (LHC)\, a particle collider located at CERN. His research involves searches for dark matter using data collected with ATLAS\, as well as developing software for the upcoming High Luminosity LHC upgrades to the ATLAS detector. Much of his time is spent traveling to CERN in Geneva\, Switzerland\, collaborating with fellow scientists. \nWillow Davis is currently a chemistry PhD candidate in her 4th year at UO. Her research in the DWJ lab centers around the physical organic chemistry and synthesis of sulfur containing cyclic molecules for use in sensing and single molecule delivery applications. She is also currently the president of UO’s Women in Graduate Science organization.
URL:https://eugenesciencecenter.org/event/meet-a-scientist-mar23-24/
LOCATION:Eugene Science Center\, 2300 Leo Harris Pkwy\, Eugene\, OR\, 97401\, United States
CATEGORIES:Special Events
ATTACH;FMTTYPE=image/png:https://eugenesciencecenter.org/wp-content/uploads/2024/03/2024.03.23_MAS_FB.png
ORGANIZER;CN="Eugene Science Center":MAILTO:info@eugenesciencecenter.org
END:VEVENT
END:VCALENDAR