BEGIN:VCALENDAR
VERSION:2.0
PRODID:-//Eugene Science Center - ECPv6.15.16//NONSGML v1.0//EN
CALSCALE:GREGORIAN
METHOD:PUBLISH
X-ORIGINAL-URL:https://eugenesciencecenter.org
X-WR-CALDESC:Events for Eugene Science Center
REFRESH-INTERVAL;VALUE=DURATION:PT1H
X-Robots-Tag:noindex
X-PUBLISHED-TTL:PT1H
BEGIN:VTIMEZONE
TZID:America/Los_Angeles
BEGIN:DAYLIGHT
TZOFFSETFROM:-0800
TZOFFSETTO:-0700
TZNAME:PDT
DTSTART:20250309T100000
END:DAYLIGHT
BEGIN:STANDARD
TZOFFSETFROM:-0700
TZOFFSETTO:-0800
TZNAME:PST
DTSTART:20251102T090000
END:STANDARD
BEGIN:DAYLIGHT
TZOFFSETFROM:-0800
TZOFFSETTO:-0700
TZNAME:PDT
DTSTART:20260308T100000
END:DAYLIGHT
BEGIN:STANDARD
TZOFFSETFROM:-0700
TZOFFSETTO:-0800
TZNAME:PST
DTSTART:20261101T090000
END:STANDARD
BEGIN:DAYLIGHT
TZOFFSETFROM:-0800
TZOFFSETTO:-0700
TZNAME:PDT
DTSTART:20270314T100000
END:DAYLIGHT
BEGIN:STANDARD
TZOFFSETFROM:-0700
TZOFFSETTO:-0800
TZNAME:PST
DTSTART:20271107T090000
END:STANDARD
END:VTIMEZONE
BEGIN:VEVENT
DTSTART;TZID=America/Los_Angeles:20260211T173000
DTEND;TZID=America/Los_Angeles:20260211T190000
DTSTAMP:20260421T053826
CREATED:20260115T195212Z
LAST-MODIFIED:20260115T195212Z
UID:26160-1770831000-1770836400@eugenesciencecenter.org
SUMMARY:Sensory Sensitive Evening
DESCRIPTION:For neuro-diverse children and adults who prefer a quiet\, less sensory-stimulating environment\, we welcome you!\nWednesday\, February 11\, 2026 \n5:30-7:00pm \nNeed a quieter\, less sensory-stimulating environment? Attend our Sensory Sensitive Evenings at Eugene Science Center. \n\n\nEugene Science Center is proud to offer Sensory Sensitive Evenings. We believe everyone\, no matter their age or ability\, should enjoy the exciting world of science and technology. \nCome enjoy an evening where we create a more sensory friendly space and provide resources like sensory sensitive planetarium shows\, sensory activities\, and more. \nFREE EVENT | Sponsored by Connections NW \nPlease RSVP here \nFor more information\, please visit: https://eugenesciencecenter.org/sensoryhours/
URL:https://eugenesciencecenter.org/event/sensory-sensitive-evening-7/
LOCATION:Eugene Science Center\, 2300 Leo Harris Pkwy\, Eugene\, OR\, 97401\, United States
CATEGORIES:Special Events
ATTACH;FMTTYPE=image/png:https://eugenesciencecenter.org/wp-content/uploads/2026/01/Sensory-Sensitive-Nigth-Feb-11.2026.png
ORGANIZER;CN="Eugene Science Center":MAILTO:info@eugenesciencecenter.org
END:VEVENT
END:VCALENDAR