BEGIN:VCALENDAR
VERSION:2.0
PRODID:-//Eugene Science Center - ECPv6.15.16//NONSGML v1.0//EN
CALSCALE:GREGORIAN
METHOD:PUBLISH
X-WR-CALNAME:Eugene Science Center
X-ORIGINAL-URL:https://eugenesciencecenter.org
X-WR-CALDESC:Events for Eugene Science Center
REFRESH-INTERVAL;VALUE=DURATION:PT1H
X-Robots-Tag:noindex
X-PUBLISHED-TTL:PT1H
BEGIN:VTIMEZONE
TZID:America/Los_Angeles
BEGIN:DAYLIGHT
TZOFFSETFROM:-0800
TZOFFSETTO:-0700
TZNAME:PDT
DTSTART:20240310T100000
END:DAYLIGHT
BEGIN:STANDARD
TZOFFSETFROM:-0700
TZOFFSETTO:-0800
TZNAME:PST
DTSTART:20241103T090000
END:STANDARD
BEGIN:DAYLIGHT
TZOFFSETFROM:-0800
TZOFFSETTO:-0700
TZNAME:PDT
DTSTART:20250309T100000
END:DAYLIGHT
BEGIN:STANDARD
TZOFFSETFROM:-0700
TZOFFSETTO:-0800
TZNAME:PST
DTSTART:20251102T090000
END:STANDARD
BEGIN:DAYLIGHT
TZOFFSETFROM:-0800
TZOFFSETTO:-0700
TZNAME:PDT
DTSTART:20260308T100000
END:DAYLIGHT
BEGIN:STANDARD
TZOFFSETFROM:-0700
TZOFFSETTO:-0800
TZNAME:PST
DTSTART:20261101T090000
END:STANDARD
END:VTIMEZONE
BEGIN:VEVENT
DTSTART;TZID=America/Los_Angeles:20250630T090000
DTEND;TZID=America/Los_Angeles:20250704T153000
DTSTAMP:20260420T102832
CREATED:20200604T073842Z
LAST-MODIFIED:20250429T161013Z
UID:9980-1751274000-1751643000@eugenesciencecenter.org
SUMMARY:Summer Science Adventure Camps Week 3
DESCRIPTION:
URL:https://eugenesciencecenter.org/event/summer-science-adventure-camps-10/
LOCATION:Eugene Science Center\, 2300 Leo Harris Pkwy\, Eugene\, OR\, 97401\, United States
CATEGORIES:Camps and No School Day Workshops
ATTACH;FMTTYPE=image/jpeg:https://eugenesciencecenter.org/wp-content/uploads/2025/04/ESC-Summer-Camp_-June30-July4.jpg
ORGANIZER;CN="Eugene Science Center":MAILTO:info@eugenesciencecenter.org
END:VEVENT
BEGIN:VEVENT
DTSTART;TZID=America/Los_Angeles:20250707T090000
DTEND;TZID=America/Los_Angeles:20250711T153000
DTSTAMP:20260420T102832
CREATED:20200604T073834Z
LAST-MODIFIED:20250429T161136Z
UID:9979-1751878800-1752247800@eugenesciencecenter.org
SUMMARY:Summer Science Adventure Camps Week 4
DESCRIPTION:
URL:https://eugenesciencecenter.org/event/summer-science-adventure-camps-9/
LOCATION:Eugene Science Center\, 2300 Leo Harris Pkwy\, Eugene\, OR\, 97401\, United States
CATEGORIES:Camps and No School Day Workshops
ATTACH;FMTTYPE=image/jpeg:https://eugenesciencecenter.org/wp-content/uploads/2025/04/ESC-Summer-Camp_-July7-11.jpg
ORGANIZER;CN="Eugene Science Center":MAILTO:info@eugenesciencecenter.org
END:VEVENT
BEGIN:VEVENT
DTSTART;TZID=America/Los_Angeles:20250714T090000
DTEND;TZID=America/Los_Angeles:20250718T153000
DTSTAMP:20260420T102832
CREATED:20200604T073457Z
LAST-MODIFIED:20250429T165612Z
UID:9969-1752483600-1752852600@eugenesciencecenter.org
SUMMARY:Summer Science Adventure Camps Week 1 Middle School
DESCRIPTION:
URL:https://eugenesciencecenter.org/event/summer-science-adventure-camps-2/
LOCATION:Eugene Science Center\, 2300 Leo Harris Pkwy\, Eugene\, OR\, 97401\, United States
CATEGORIES:Camps and No School Day Workshops
ATTACH;FMTTYPE=image/jpeg:https://eugenesciencecenter.org/wp-content/uploads/2025/04/ESC-Summer-Camp_MiddleSchJuly14-18.jpg
ORGANIZER;CN="Eugene Science Center":MAILTO:info@eugenesciencecenter.org
END:VEVENT
BEGIN:VEVENT
DTSTART;TZID=America/Los_Angeles:20250714T090000
DTEND;TZID=America/Los_Angeles:20250718T153000
DTSTAMP:20260420T102832
CREATED:20200604T073823Z
LAST-MODIFIED:20250429T161927Z
UID:9978-1752483600-1752852600@eugenesciencecenter.org
SUMMARY:Summer Science Adventure Camps Week 5
DESCRIPTION:
URL:https://eugenesciencecenter.org/event/summer-science-adventure-camps-8/
LOCATION:Eugene Science Center\, 2300 Leo Harris Pkwy\, Eugene\, OR\, 97401\, United States
CATEGORIES:Camps and No School Day Workshops
ATTACH;FMTTYPE=image/jpeg:https://eugenesciencecenter.org/wp-content/uploads/2025/04/ESC-Summer-CampJuly14-18.jpg
ORGANIZER;CN="Eugene Science Center":MAILTO:info@eugenesciencecenter.org
END:VEVENT
BEGIN:VEVENT
DTSTART;TZID=America/Los_Angeles:20250721T090000
DTEND;TZID=America/Los_Angeles:20250725T153000
DTSTAMP:20260420T102832
CREATED:20200604T073348Z
LAST-MODIFIED:20250429T165929Z
UID:9967-1753088400-1753457400@eugenesciencecenter.org
SUMMARY:Summer Science Adventure Camps Week 2 Middle School
DESCRIPTION:
URL:https://eugenesciencecenter.org/event/summer-science-adventure-camps/
LOCATION:Eugene Science Center\, 2300 Leo Harris Pkwy\, Eugene\, OR\, 97401\, United States
CATEGORIES:Camps and No School Day Workshops
ATTACH;FMTTYPE=image/jpeg:https://eugenesciencecenter.org/wp-content/uploads/2025/04/ESC-Summer-Camp-Middle-School-July21-25.jpg
ORGANIZER;CN="Eugene Science Center":MAILTO:info@eugenesciencecenter.org
END:VEVENT
BEGIN:VEVENT
DTSTART;TZID=America/Los_Angeles:20250728T090000
DTEND;TZID=America/Los_Angeles:20250801T153000
DTSTAMP:20260420T102832
CREATED:20200604T073800Z
LAST-MODIFIED:20250429T162305Z
UID:9977-1753693200-1754062200@eugenesciencecenter.org
SUMMARY:Summer Science Adventure Camps Week 7
DESCRIPTION:
URL:https://eugenesciencecenter.org/event/summer-science-adventure-camps-7/
LOCATION:Eugene Science Center\, 2300 Leo Harris Pkwy\, Eugene\, OR\, 97401\, United States
CATEGORIES:Camps and No School Day Workshops
ATTACH;FMTTYPE=image/jpeg:https://eugenesciencecenter.org/wp-content/uploads/2025/04/ESC-Summer-Camp_July28-Aug1.jpg
ORGANIZER;CN="Eugene Science Center":MAILTO:info@eugenesciencecenter.org
END:VEVENT
END:VCALENDAR